BEGIN:VCALENDAR
VERSION:2.0
PRODID:-//Rotherhithe Primary School - ECPv5.1.2//NONSGML v1.0//EN
CALSCALE:GREGORIAN
METHOD:PUBLISH
X-WR-CALNAME:Rotherhithe Primary School
X-ORIGINAL-URL:https://rotherhitheprimary.co.uk
X-WR-CALDESC:Events for Rotherhithe Primary School
BEGIN:VTIMEZONE
TZID:UTC
BEGIN:STANDARD
TZOFFSETFROM:+0000
TZOFFSETTO:+0000
TZNAME:UTC
DTSTART:20220101T000000
END:STANDARD
END:VTIMEZONE
BEGIN:VEVENT
DTSTART;VALUE=DATE:20220909
DTEND;VALUE=DATE:20220910
DTSTAMP:20260426T015955
CREATED:20220909T112145Z
LAST-MODIFIED:20220909T112145Z
UID:20942-1662681600-1662767999@rotherhitheprimary.co.uk
SUMMARY:Year 6 secondary transition meeting
DESCRIPTION:Year 6 secondary transition meeting \n
URL:https://rotherhitheprimary.co.uk/events-diary/year-6-secondary-transition-meeting/
END:VEVENT
END:VCALENDAR