BEGIN:VCALENDAR
VERSION:2.0
PRODID:-//Rotherhithe Primary School - ECPv5.1.2//NONSGML v1.0//EN
CALSCALE:GREGORIAN
METHOD:PUBLISH
X-WR-CALNAME:Rotherhithe Primary School
X-ORIGINAL-URL:https://rotherhitheprimary.co.uk
X-WR-CALDESC:Events for Rotherhithe Primary School
BEGIN:VTIMEZONE
TZID:UTC
BEGIN:STANDARD
TZOFFSETFROM:+0000
TZOFFSETTO:+0000
TZNAME:UTC
DTSTART:20220101T000000
END:STANDARD
END:VTIMEZONE
BEGIN:VEVENT
DTSTART;VALUE=DATE:20220523
DTEND;VALUE=DATE:20220524
DTSTAMP:20260425T224203
CREATED:20220422T091345Z
LAST-MODIFIED:20220422T091345Z
UID:18606-1653264000-1653350399@rotherhitheprimary.co.uk
SUMMARY:Year 6 Residential - Condover Hall
DESCRIPTION:Year 6 Residential – Condover Hall \n
URL:https://rotherhitheprimary.co.uk/events-diary/year-6-residential-condover-hall-2/
END:VEVENT
END:VCALENDAR