BEGIN:VCALENDAR
VERSION:2.0
PRODID:-//Rotherhithe Primary School - ECPv5.1.2//NONSGML v1.0//EN
CALSCALE:GREGORIAN
METHOD:PUBLISH
X-WR-CALNAME:Rotherhithe Primary School
X-ORIGINAL-URL:https://rotherhitheprimary.co.uk
X-WR-CALDESC:Events for Rotherhithe Primary School
BEGIN:VTIMEZONE
TZID:UTC
BEGIN:STANDARD
TZOFFSETFROM:+0000
TZOFFSETTO:+0000
TZNAME:UTC
DTSTART:20190101T000000
END:STANDARD
END:VTIMEZONE
BEGIN:VEVENT
DTSTART;VALUE=DATE:20190718
DTEND;VALUE=DATE:20190719
DTSTAMP:20260425T220202
CREATED:20190517T112409Z
LAST-MODIFIED:20190517T112409Z
UID:10347-1563408000-1563494399@rotherhitheprimary.co.uk
SUMMARY:Year 6 performance to parents at 5 pm
DESCRIPTION:Year 6 performance to parents at 5 pm \n
URL:https://rotherhitheprimary.co.uk/events-diary/year-6-performance-to-parents-at-5-pm/
END:VEVENT
END:VCALENDAR