BEGIN:VCALENDAR
VERSION:2.0
PRODID:-//Rotherhithe Primary School - ECPv5.1.2//NONSGML v1.0//EN
CALSCALE:GREGORIAN
METHOD:PUBLISH
X-WR-CALNAME:Rotherhithe Primary School
X-ORIGINAL-URL:https://rotherhitheprimary.co.uk
X-WR-CALDESC:Events for Rotherhithe Primary School
BEGIN:VTIMEZONE
TZID:UTC
BEGIN:STANDARD
TZOFFSETFROM:+0000
TZOFFSETTO:+0000
TZNAME:UTC
DTSTART:20220101T000000
END:STANDARD
END:VTIMEZONE
BEGIN:VEVENT
DTSTART;VALUE=DATE:20220721
DTEND;VALUE=DATE:20220722
DTSTAMP:20260426T001311
CREATED:20220422T093129Z
LAST-MODIFIED:20220422T093129Z
UID:18648-1658361600-1658447999@rotherhitheprimary.co.uk
SUMMARY:Year 6 Graduation - 11:30am
DESCRIPTION:Year 6 Graduation – 11:30am \n
URL:https://rotherhitheprimary.co.uk/events-diary/year-6-graduation-1130am/
END:VEVENT
END:VCALENDAR