BEGIN:VCALENDAR
VERSION:2.0
PRODID:-//Rotherhithe Primary School - ECPv5.1.2//NONSGML v1.0//EN
CALSCALE:GREGORIAN
METHOD:PUBLISH
X-WR-CALNAME:Rotherhithe Primary School
X-ORIGINAL-URL:https://rotherhitheprimary.co.uk
X-WR-CALDESC:Events for Rotherhithe Primary School
BEGIN:VTIMEZONE
TZID:UTC
BEGIN:STANDARD
TZOFFSETFROM:+0000
TZOFFSETTO:+0000
TZNAME:UTC
DTSTART:20220101T000000
END:STANDARD
END:VTIMEZONE
BEGIN:VEVENT
DTSTART;VALUE=DATE:20220706
DTEND;VALUE=DATE:20220707
DTSTAMP:20260425T142226
CREATED:20220422T092523Z
LAST-MODIFIED:20220422T092523Z
UID:18632-1657065600-1657151999@rotherhitheprimary.co.uk
SUMMARY:Year 5 and 6 Sports Day
DESCRIPTION:Year 5 and 6 Sports Day \n
URL:https://rotherhitheprimary.co.uk/events-diary/year-5-and-6-sports-day/
END:VEVENT
END:VCALENDAR