BEGIN:VCALENDAR
VERSION:2.0
PRODID:-//Rotherhithe Primary School - ECPv5.1.2//NONSGML v1.0//EN
CALSCALE:GREGORIAN
METHOD:PUBLISH
X-WR-CALNAME:Rotherhithe Primary School
X-ORIGINAL-URL:https://rotherhitheprimary.co.uk
X-WR-CALDESC:Events for Rotherhithe Primary School
BEGIN:VTIMEZONE
TZID:UTC
BEGIN:STANDARD
TZOFFSETFROM:+0000
TZOFFSETTO:+0000
TZNAME:UTC
DTSTART:20220101T000000
END:STANDARD
END:VTIMEZONE
BEGIN:VEVENT
DTSTART;VALUE=DATE:20220516
DTEND;VALUE=DATE:20220521
DTSTAMP:20260426T001240
CREATED:20220422T090850Z
LAST-MODIFIED:20220422T090850Z
UID:18594-1652659200-1653091199@rotherhitheprimary.co.uk
SUMMARY:Walk to school week
DESCRIPTION:Walk to school week \n
URL:https://rotherhitheprimary.co.uk/events-diary/walk-to-school-week-2/
END:VEVENT
END:VCALENDAR