BEGIN:VCALENDAR
VERSION:2.0
PRODID:-//Rotherhithe Primary School - ECPv5.1.2//NONSGML v1.0//EN
CALSCALE:GREGORIAN
METHOD:PUBLISH
X-WR-CALNAME:Rotherhithe Primary School
X-ORIGINAL-URL:https://rotherhitheprimary.co.uk
X-WR-CALDESC:Events for Rotherhithe Primary School
BEGIN:VTIMEZONE
TZID:UTC
BEGIN:STANDARD
TZOFFSETFROM:+0000
TZOFFSETTO:+0000
TZNAME:UTC
DTSTART:20260101T000000
END:STANDARD
END:VTIMEZONE
BEGIN:VEVENT
DTSTART;VALUE=DATE:20260303
DTEND;VALUE=DATE:20260304
DTSTAMP:20260423T061437
CREATED:20260208T125034Z
LAST-MODIFIED:20260208T125034Z
UID:37303-1772496000-1772582399@rotherhitheprimary.co.uk
SUMMARY:Tyne class trip to the National  Gallery   Parents evening individual  meetings  BRECK Workshops
DESCRIPTION:Tyne class trip to the National Gallery Parents evening individual meetings BRECK Workshops \n
URL:https://rotherhitheprimary.co.uk/events-diary/tyne-class-trip-to-the-national-gallery-parents-evening-individual-meetings-breck-workshops/
END:VEVENT
END:VCALENDAR