BEGIN:VCALENDAR
VERSION:2.0
PRODID:-//Rotherhithe Primary School - ECPv5.1.2//NONSGML v1.0//EN
CALSCALE:GREGORIAN
METHOD:PUBLISH
X-WR-CALNAME:Rotherhithe Primary School
X-ORIGINAL-URL:https://rotherhitheprimary.co.uk
X-WR-CALDESC:Events for Rotherhithe Primary School
BEGIN:VTIMEZONE
TZID:UTC
BEGIN:STANDARD
TZOFFSETFROM:+0000
TZOFFSETTO:+0000
TZNAME:UTC
DTSTART:20190101T000000
END:STANDARD
END:VTIMEZONE
BEGIN:VEVENT
DTSTART;VALUE=DATE:20190704
DTEND;VALUE=DATE:20190705
DTSTAMP:20260425T190220
CREATED:20190517T112230Z
LAST-MODIFIED:20190517T112230Z
UID:10339-1562198400-1562284799@rotherhitheprimary.co.uk
SUMMARY:Reserve Sports Day
DESCRIPTION:Reserve Sports Day \n
URL:https://rotherhitheprimary.co.uk/events-diary/reserve-sports-day-2/
END:VEVENT
END:VCALENDAR