BEGIN:VCALENDAR
VERSION:2.0
PRODID:-//Rotherhithe Primary School - ECPv5.1.2//NONSGML v1.0//EN
CALSCALE:GREGORIAN
METHOD:PUBLISH
X-WR-CALNAME:Rotherhithe Primary School
X-ORIGINAL-URL:https://rotherhitheprimary.co.uk
X-WR-CALDESC:Events for Rotherhithe Primary School
BEGIN:VTIMEZONE
TZID:UTC
BEGIN:STANDARD
TZOFFSETFROM:+0000
TZOFFSETTO:+0000
TZNAME:UTC
DTSTART:20180101T000000
END:STANDARD
END:VTIMEZONE
BEGIN:VEVENT
DTSTART;VALUE=DATE:20181217
DTEND;VALUE=DATE:20181222
DTSTAMP:20260425T210204
CREATED:20180907T104859Z
LAST-MODIFIED:20180907T104859Z
UID:8686-1545004800-1545436799@rotherhitheprimary.co.uk
SUMMARY:Poetry Week
DESCRIPTION:Poetry Week: Children of all year groups will take part in a series of Poetry orientated workshops throughout this week. \n
URL:https://rotherhitheprimary.co.uk/events-diary/poetry-week-2/
END:VEVENT
END:VCALENDAR