BEGIN:VCALENDAR
VERSION:2.0
PRODID:-//Rotherhithe Primary School - ECPv5.1.2//NONSGML v1.0//EN
CALSCALE:GREGORIAN
METHOD:PUBLISH
X-WR-CALNAME:Rotherhithe Primary School
X-ORIGINAL-URL:https://rotherhitheprimary.co.uk
X-WR-CALDESC:Events for Rotherhithe Primary School
BEGIN:VTIMEZONE
TZID:UTC
BEGIN:STANDARD
TZOFFSETFROM:+0000
TZOFFSETTO:+0000
TZNAME:UTC
DTSTART:20190101T000000
END:STANDARD
END:VTIMEZONE
BEGIN:VEVENT
DTSTART;TZID=UTC:20190403T151500
DTEND;TZID=UTC:20190403T163000
DTSTAMP:20260426T021942
CREATED:20190111T113635Z
LAST-MODIFIED:20190111T113635Z
UID:9346-1554304500-1554309000@rotherhitheprimary.co.uk
SUMMARY:Parent's Evening - Reception
DESCRIPTION:Parent’s Evening – Reception (In ICT Suite) \n
URL:https://rotherhitheprimary.co.uk/events-diary/parents-evening-reception/
END:VEVENT
END:VCALENDAR