BEGIN:VCALENDAR
VERSION:2.0
PRODID:-//Rotherhithe Primary School - ECPv5.1.2//NONSGML v1.0//EN
CALSCALE:GREGORIAN
METHOD:PUBLISH
X-WR-CALNAME:Rotherhithe Primary School
X-ORIGINAL-URL:https://rotherhitheprimary.co.uk
X-WR-CALDESC:Events for Rotherhithe Primary School
BEGIN:VTIMEZONE
TZID:UTC
BEGIN:STANDARD
TZOFFSETFROM:+0000
TZOFFSETTO:+0000
TZNAME:UTC
DTSTART:20180101T000000
END:STANDARD
END:VTIMEZONE
BEGIN:VEVENT
DTSTART;VALUE=DATE:20181030
DTEND;VALUE=DATE:20181031
DTSTAMP:20260426T014512
CREATED:20180907T100443Z
LAST-MODIFIED:20180907T100443Z
UID:8662-1540857600-1540943999@rotherhitheprimary.co.uk
SUMMARY:NEW TERM STARTS
DESCRIPTION:NEW TERM STARTS: Children return to school for the new term at the normal start time. \n
URL:https://rotherhitheprimary.co.uk/events-diary/new-term-starts-2/
END:VEVENT
END:VCALENDAR