BEGIN:VCALENDAR
VERSION:2.0
PRODID:-//Rotherhithe Primary School - ECPv5.1.2//NONSGML v1.0//EN
CALSCALE:GREGORIAN
METHOD:PUBLISH
X-WR-CALNAME:Rotherhithe Primary School
X-ORIGINAL-URL:https://rotherhitheprimary.co.uk
X-WR-CALDESC:Events for Rotherhithe Primary School
BEGIN:VTIMEZONE
TZID:UTC
BEGIN:STANDARD
TZOFFSETFROM:+0000
TZOFFSETTO:+0000
TZNAME:UTC
DTSTART:20220101T000000
END:STANDARD
END:VTIMEZONE
BEGIN:VEVENT
DTSTART;VALUE=DATE:20220718
DTEND;VALUE=DATE:20220719
DTSTAMP:20260425T222644
CREATED:20220422T093051Z
LAST-MODIFIED:20220422T093051Z
UID:18646-1658102400-1658188799@rotherhitheprimary.co.uk
SUMMARY:Meet your new class
DESCRIPTION:Meet your new class \n
URL:https://rotherhitheprimary.co.uk/events-diary/meet-your-new-class/
END:VEVENT
END:VCALENDAR