BEGIN:VCALENDAR
VERSION:2.0
PRODID:-//Rotherhithe Primary School - ECPv5.1.2//NONSGML v1.0//EN
CALSCALE:GREGORIAN
METHOD:PUBLISH
X-WR-CALNAME:Rotherhithe Primary School
X-ORIGINAL-URL:https://rotherhitheprimary.co.uk
X-WR-CALDESC:Events for Rotherhithe Primary School
BEGIN:VTIMEZONE
TZID:UTC
BEGIN:STANDARD
TZOFFSETFROM:+0000
TZOFFSETTO:+0000
TZNAME:UTC
DTSTART:20190101T000000
END:STANDARD
END:VTIMEZONE
BEGIN:VEVENT
DTSTART;VALUE=DATE:20190911
DTEND;VALUE=DATE:20190912
DTSTAMP:20260425T220752
CREATED:20190801T084837Z
LAST-MODIFIED:20190801T084837Z
UID:11039-1568160000-1568246399@rotherhitheprimary.co.uk
SUMMARY:Meet the parents open session  Yr 5-6 (3:15-4:15)
DESCRIPTION:Meet the parents open session \nYr 5-6 (3:15-4:15) \n
URL:https://rotherhitheprimary.co.uk/events-diary/meet-the-parents-open-session-yr-5-6-315-415/
END:VEVENT
END:VCALENDAR