BEGIN:VCALENDAR
VERSION:2.0
PRODID:-//Rotherhithe Primary School - ECPv5.1.2//NONSGML v1.0//EN
CALSCALE:GREGORIAN
METHOD:PUBLISH
X-WR-CALNAME:Rotherhithe Primary School
X-ORIGINAL-URL:https://rotherhitheprimary.co.uk
X-WR-CALDESC:Events for Rotherhithe Primary School
BEGIN:VTIMEZONE
TZID:UTC
BEGIN:STANDARD
TZOFFSETFROM:+0000
TZOFFSETTO:+0000
TZNAME:UTC
DTSTART:20180101T000000
END:STANDARD
END:VTIMEZONE
BEGIN:VEVENT
DTSTART;VALUE=DATE:20181105
DTEND;VALUE=DATE:20181110
DTSTAMP:20260425T223016
CREATED:20180907T100711Z
LAST-MODIFIED:20180907T100711Z
UID:8666-1541376000-1541807999@rotherhitheprimary.co.uk
SUMMARY:Maths Week
DESCRIPTION:Maths Week: Children of all year groups will take part in a series of Maths orientated workshops throughout this week. \n
URL:https://rotherhitheprimary.co.uk/events-diary/maths-week/
END:VEVENT
END:VCALENDAR