BEGIN:VCALENDAR
VERSION:2.0
PRODID:-//Rotherhithe Primary School - ECPv5.1.2//NONSGML v1.0//EN
CALSCALE:GREGORIAN
METHOD:PUBLISH
X-WR-CALNAME:Rotherhithe Primary School
X-ORIGINAL-URL:https://rotherhitheprimary.co.uk
X-WR-CALDESC:Events for Rotherhithe Primary School
BEGIN:VTIMEZONE
TZID:UTC
BEGIN:STANDARD
TZOFFSETFROM:+0000
TZOFFSETTO:+0000
TZNAME:UTC
DTSTART:20190101T000000
END:STANDARD
END:VTIMEZONE
BEGIN:VEVENT
DTSTART;VALUE=DATE:20190117
DTEND;VALUE=DATE:20190118
DTSTAMP:20260425T223033
CREATED:20190111T111908Z
LAST-MODIFIED:20190111T111908Z
UID:9310-1547683200-1547769599@rotherhitheprimary.co.uk
SUMMARY:Maths Learning Walk - KS2
DESCRIPTION:Maths Learning Walk – KS2 \n
URL:https://rotherhitheprimary.co.uk/events-diary/maths-learning-walk-ks2/
END:VEVENT
END:VCALENDAR