BEGIN:VCALENDAR
VERSION:2.0
PRODID:-//Rotherhithe Primary School - ECPv5.1.2//NONSGML v1.0//EN
CALSCALE:GREGORIAN
METHOD:PUBLISH
X-WR-CALNAME:Rotherhithe Primary School
X-ORIGINAL-URL:https://rotherhitheprimary.co.uk
X-WR-CALDESC:Events for Rotherhithe Primary School
BEGIN:VTIMEZONE
TZID:UTC
BEGIN:STANDARD
TZOFFSETFROM:+0000
TZOFFSETTO:+0000
TZNAME:UTC
DTSTART:20190101T000000
END:STANDARD
END:VTIMEZONE
BEGIN:VEVENT
DTSTART;VALUE=DATE:20190405
DTEND;VALUE=DATE:20190406
DTSTAMP:20260426T014345
CREATED:20190111T113034Z
LAST-MODIFIED:20190111T113034Z
UID:9336-1554422400-1554508799@rotherhitheprimary.co.uk
SUMMARY:Last day of term
DESCRIPTION:Last day of term – School ends at 2pm \n
URL:https://rotherhitheprimary.co.uk/events-diary/last-day-of-term-9/
END:VEVENT
END:VCALENDAR