BEGIN:VCALENDAR
VERSION:2.0
PRODID:-//Rotherhithe Primary School - ECPv5.1.2//NONSGML v1.0//EN
CALSCALE:GREGORIAN
METHOD:PUBLISH
X-WR-CALNAME:Rotherhithe Primary School
X-ORIGINAL-URL:https://rotherhitheprimary.co.uk
X-WR-CALDESC:Events for Rotherhithe Primary School
BEGIN:VTIMEZONE
TZID:UTC
BEGIN:STANDARD
TZOFFSETFROM:+0000
TZOFFSETTO:+0000
TZNAME:UTC
DTSTART:20220101T000000
END:STANDARD
END:VTIMEZONE
BEGIN:VEVENT
DTSTART;VALUE=DATE:20220301
DTEND;VALUE=DATE:20220302
DTSTAMP:20260425T162559
CREATED:20220107T105222Z
LAST-MODIFIED:20220107T105222Z
UID:17303-1646092800-1646179199@rotherhitheprimary.co.uk
SUMMARY:LA Science Review visit
DESCRIPTION:LA Science Review visit \n
URL:https://rotherhitheprimary.co.uk/events-diary/la-science-review-visit/
END:VEVENT
END:VCALENDAR