BEGIN:VCALENDAR
VERSION:2.0
PRODID:-//Rotherhithe Primary School - ECPv5.1.2//NONSGML v1.0//EN
CALSCALE:GREGORIAN
METHOD:PUBLISH
X-WR-CALNAME:Rotherhithe Primary School
X-ORIGINAL-URL:https://rotherhitheprimary.co.uk
X-WR-CALDESC:Events for Rotherhithe Primary School
BEGIN:VTIMEZONE
TZID:UTC
BEGIN:STANDARD
TZOFFSETFROM:+0000
TZOFFSETTO:+0000
TZNAME:UTC
DTSTART:20220101T000000
END:STANDARD
END:VTIMEZONE
BEGIN:VEVENT
DTSTART;VALUE=DATE:20220509
DTEND;VALUE=DATE:20220510
DTSTAMP:20260425T142233
CREATED:20220422T090415Z
LAST-MODIFIED:20220422T090415Z
UID:18582-1652054400-1652140799@rotherhitheprimary.co.uk
SUMMARY:KS2 SATs Week Starts
DESCRIPTION:
URL:https://rotherhitheprimary.co.uk/events-diary/ks2-sats-week-starts/
END:VEVENT
END:VCALENDAR