BEGIN:VCALENDAR
VERSION:2.0
PRODID:-//Rotherhithe Primary School - ECPv5.1.2//NONSGML v1.0//EN
CALSCALE:GREGORIAN
METHOD:PUBLISH
X-WR-CALNAME:Rotherhithe Primary School
X-ORIGINAL-URL:https://rotherhitheprimary.co.uk
X-WR-CALDESC:Events for Rotherhithe Primary School
BEGIN:VTIMEZONE
TZID:UTC
BEGIN:STANDARD
TZOFFSETFROM:+0000
TZOFFSETTO:+0000
TZNAME:UTC
DTSTART:20220101T000000
END:STANDARD
END:VTIMEZONE
BEGIN:VEVENT
DTSTART;VALUE=DATE:20220525
DTEND;VALUE=DATE:20220526
DTSTAMP:20260425T205851
CREATED:20220422T091447Z
LAST-MODIFIED:20220422T091447Z
UID:18610-1653436800-1653523199@rotherhitheprimary.co.uk
SUMMARY:KS1 SATs - Reasoning
DESCRIPTION:KS1 SATs – Reasoning \n
URL:https://rotherhitheprimary.co.uk/events-diary/ks1-sats-reasoning/
END:VEVENT
END:VCALENDAR