BEGIN:VCALENDAR
VERSION:2.0
PRODID:-//Rotherhithe Primary School - ECPv5.1.2//NONSGML v1.0//EN
CALSCALE:GREGORIAN
METHOD:PUBLISH
X-WR-CALNAME:Rotherhithe Primary School
X-ORIGINAL-URL:https://rotherhitheprimary.co.uk
X-WR-CALDESC:Events for Rotherhithe Primary School
BEGIN:VTIMEZONE
TZID:UTC
BEGIN:STANDARD
TZOFFSETFROM:+0000
TZOFFSETTO:+0000
TZNAME:UTC
DTSTART:20220101T000000
END:STANDARD
END:VTIMEZONE
BEGIN:VEVENT
DTSTART;VALUE=DATE:20220518
DTEND;VALUE=DATE:20220519
DTSTAMP:20260426T033633
CREATED:20220422T091036Z
LAST-MODIFIED:20220422T091036Z
UID:18598-1652832000-1652918399@rotherhitheprimary.co.uk
SUMMARY:KS1 SATs - Reading
DESCRIPTION:KS1 SATs – Reading – Paper 2 \n
URL:https://rotherhitheprimary.co.uk/events-diary/ks1-sats-reading/
END:VEVENT
END:VCALENDAR