BEGIN:VCALENDAR
VERSION:2.0
PRODID:-//Rotherhithe Primary School - ECPv5.1.2//NONSGML v1.0//EN
CALSCALE:GREGORIAN
METHOD:PUBLISH
X-WR-CALNAME:Rotherhithe Primary School
X-ORIGINAL-URL:https://rotherhitheprimary.co.uk
X-WR-CALDESC:Events for Rotherhithe Primary School
BEGIN:VTIMEZONE
TZID:UTC
BEGIN:STANDARD
TZOFFSETFROM:+0000
TZOFFSETTO:+0000
TZNAME:UTC
DTSTART:20220101T000000
END:STANDARD
END:VTIMEZONE
BEGIN:VEVENT
DTSTART;VALUE=DATE:20220210
DTEND;VALUE=DATE:20220219
DTSTAMP:20260425T195342
CREATED:20220107T105047Z
LAST-MODIFIED:20220107T105047Z
UID:17297-1644451200-1645228799@rotherhitheprimary.co.uk
SUMMARY:Half Term Break - SCHOOL CLOSED
DESCRIPTION:Half Term Break – SCHOOL CLOSED \n
URL:https://rotherhitheprimary.co.uk/events-diary/half-term-break-school-closed-2/
END:VEVENT
END:VCALENDAR