BEGIN:VCALENDAR
VERSION:2.0
PRODID:-//Rotherhithe Primary School - ECPv5.1.2//NONSGML v1.0//EN
CALSCALE:GREGORIAN
METHOD:PUBLISH
X-WR-CALNAME:Rotherhithe Primary School
X-ORIGINAL-URL:https://rotherhitheprimary.co.uk
X-WR-CALDESC:Events for Rotherhithe Primary School
BEGIN:VTIMEZONE
TZID:UTC
BEGIN:STANDARD
TZOFFSETFROM:+0000
TZOFFSETTO:+0000
TZNAME:UTC
DTSTART:20220101T000000
END:STANDARD
END:VTIMEZONE
BEGIN:VEVENT
DTSTART;VALUE=DATE:20220707
DTEND;VALUE=DATE:20220708
DTSTAMP:20260425T141611
CREATED:20220422T092614Z
LAST-MODIFIED:20220422T092614Z
UID:18634-1657152000-1657238399@rotherhitheprimary.co.uk
SUMMARY:EYFS Sports Day
DESCRIPTION:EYFS Sports Day – In school \n
URL:https://rotherhitheprimary.co.uk/events-diary/eyfs-sports-day-3/
END:VEVENT
END:VCALENDAR