BEGIN:VCALENDAR
VERSION:2.0
PRODID:-//Rotherhithe Primary School - ECPv5.1.2//NONSGML v1.0//EN
CALSCALE:GREGORIAN
METHOD:PUBLISH
X-WR-CALNAME:Rotherhithe Primary School
X-ORIGINAL-URL:https://rotherhitheprimary.co.uk
X-WR-CALDESC:Events for Rotherhithe Primary School
BEGIN:VTIMEZONE
TZID:UTC
BEGIN:STANDARD
TZOFFSETFROM:+0000
TZOFFSETTO:+0000
TZNAME:UTC
DTSTART:20260101T000000
END:STANDARD
END:VTIMEZONE
BEGIN:VEVENT
DTSTART;VALUE=DATE:20260327
DTEND;VALUE=DATE:20260328
DTSTAMP:20260423T193823
CREATED:20260208T130009Z
LAST-MODIFIED:20260208T130009Z
UID:37319-1774569600-1774655999@rotherhitheprimary.co.uk
SUMMARY:Easter Bonnet Parade  Achievement Awards KS1
DESCRIPTION:Easter Bonnet Parade Achievement Awards KS1 \n
URL:https://rotherhitheprimary.co.uk/events-diary/easter-bonnet-parade-achievement-awards-ks1/
END:VEVENT
END:VCALENDAR