BEGIN:VCALENDAR
VERSION:2.0
PRODID:-//Rotherhithe Primary School - ECPv5.1.2//NONSGML v1.0//EN
CALSCALE:GREGORIAN
METHOD:PUBLISH
X-WR-CALNAME:Rotherhithe Primary School
X-ORIGINAL-URL:https://rotherhitheprimary.co.uk
X-WR-CALDESC:Events for Rotherhithe Primary School
BEGIN:VTIMEZONE
TZID:UTC
BEGIN:STANDARD
TZOFFSETFROM:+0000
TZOFFSETTO:+0000
TZNAME:UTC
DTSTART:20220101T000000
END:STANDARD
END:VTIMEZONE
BEGIN:VEVENT
DTSTART;VALUE=DATE:20220221
DTEND;VALUE=DATE:20220222
DTSTAMP:20260425T180159
CREATED:20220107T105154Z
LAST-MODIFIED:20220204T120150Z
UID:17301-1645401600-1645487999@rotherhitheprimary.co.uk
SUMMARY:All children back to school - ORIENTEERING DAYS CANCELLED
DESCRIPTION:All children back to school – ORIENTEERING DAYS CANCELLED \nIMPORTANT NOTICE FOR PARENTS:\nDue to unforeseen delays in moving into the new building\, the Orienteering Days have now been cancelled.\nChildren are asked to return to school on Monday 21st February 2022 at the normal time using their usual entrance.\n
URL:https://rotherhitheprimary.co.uk/events-diary/all-children-back-to-school-in-the-new-building/
END:VEVENT
END:VCALENDAR