BEGIN:VCALENDAR
VERSION:2.0
PRODID:-//Rotherhithe Primary School - ECPv5.1.2//NONSGML v1.0//EN
CALSCALE:GREGORIAN
METHOD:PUBLISH
X-WR-CALNAME:Rotherhithe Primary School
X-ORIGINAL-URL:https://rotherhitheprimary.co.uk
X-WR-CALDESC:Events for Rotherhithe Primary School
BEGIN:VTIMEZONE
TZID:UTC
BEGIN:STANDARD
TZOFFSETFROM:+0000
TZOFFSETTO:+0000
TZNAME:UTC
DTSTART:20180101T000000
END:STANDARD
END:VTIMEZONE
BEGIN:VEVENT
DTSTART;VALUE=DATE:20180205
DTEND;VALUE=DATE:20180210
DTSTAMP:20260424T215230
CREATED:20171218T134800Z
LAST-MODIFIED:20171218T134800Z
UID:6719-1517788800-1518220799@rotherhitheprimary.co.uk
SUMMARY:Science Week 2018
DESCRIPTION:Science Week 2018: 5th – 9th Feb 2018 \n
URL:https://rotherhitheprimary.co.uk/events-diary/science-week-2018/
END:VEVENT
BEGIN:VEVENT
DTSTART;TZID=UTC:20180205T090000
DTEND;TZID=UTC:20180205T103000
DTSTAMP:20260424T215230
CREATED:20180119T132439Z
LAST-MODIFIED:20180119T132439Z
UID:6853-1517821200-1517826600@rotherhitheprimary.co.uk
SUMMARY:E-safety parent workshop 9 am
DESCRIPTION:E-safety parent workshop 9 am \n
URL:https://rotherhitheprimary.co.uk/events-diary/e-safety-parent-workshop-9-am/
END:VEVENT
END:VCALENDAR