BEGIN:VCALENDAR
VERSION:2.0
PRODID:-//Rotherhithe Primary School - ECPv5.1.2//NONSGML v1.0//EN
CALSCALE:GREGORIAN
METHOD:PUBLISH
X-WR-CALNAME:Rotherhithe Primary School
X-ORIGINAL-URL:https://rotherhitheprimary.co.uk
X-WR-CALDESC:Events for Rotherhithe Primary School
BEGIN:VTIMEZONE
TZID:UTC
BEGIN:STANDARD
TZOFFSETFROM:+0000
TZOFFSETTO:+0000
TZNAME:UTC
DTSTART:20190101T000000
END:STANDARD
END:VTIMEZONE
BEGIN:VEVENT
DTSTART;VALUE=DATE:20190719
DTEND;VALUE=DATE:20190720
DTSTAMP:20260426T010725
CREATED:20190517T112442Z
LAST-MODIFIED:20190517T112442Z
UID:10349-1563494400-1563580799@rotherhitheprimary.co.uk
SUMMARY:11:30 year 6 graduation and farewell at the end of the presentation.
DESCRIPTION:11:30 year 6 graduation and farewell at the end of the presentation. \n
URL:https://rotherhitheprimary.co.uk/events-diary/1130-year-6-graduation-and-farewell-at-the-end-of-the-presentation/
END:VEVENT
END:VCALENDAR