BEGIN:VCALENDAR
VERSION:2.0
PRODID:-//Rotherhithe Primary School - ECPv5.1.2//NONSGML v1.0//EN
CALSCALE:GREGORIAN
METHOD:PUBLISH
X-WR-CALNAME:Rotherhithe Primary School
X-ORIGINAL-URL:https://rotherhitheprimary.co.uk
X-WR-CALDESC:Events for Rotherhithe Primary School
BEGIN:VTIMEZONE
TZID:UTC
BEGIN:STANDARD
TZOFFSETFROM:+0000
TZOFFSETTO:+0000
TZNAME:UTC
DTSTART:20190101T000000
END:STANDARD
END:VTIMEZONE
BEGIN:VEVENT
DTSTART;TZID=UTC:20190405T111500
DTEND;TZID=UTC:20190405T123000
DTSTAMP:20260426T001044
CREATED:20190111T113809Z
LAST-MODIFIED:20190111T113809Z
UID:9348-1554462900-1554467400@rotherhitheprimary.co.uk
SUMMARY:100% Attendance Assemblies
DESCRIPTION:100% Attendance Assemblies: \nKS1 starts at 11:15\nKS2 starts at 11:30 \n
URL:https://rotherhitheprimary.co.uk/events-diary/100-attendance-assemblies-2/
END:VEVENT
END:VCALENDAR